BEGIN:VCALENDAR
VERSION:2.0
PRODID:-//wp-events-plugin.com//7.2.3.1//EN
TZID:Europe/Lisbon
X-WR-TIMEZONE:Europe/Lisbon
BEGIN:VEVENT
UID:40@tapadademafra.pt
DTSTART;TZID=Europe/Lisbon:20250510T090000
DTEND;TZID=Europe/Lisbon:20250510T130000
DTSTAMP:20250403T142502Z
URL:https://tapadademafra.pt/experiencias/workshop-de-fotografia-de-primav
 era-maio/
SUMMARY:Workshop de Fotografia de Primavera- A luz e o tempo
DESCRIPTION:\n\n\nBilhete único (&gt\;13 anos) – 50€\n\nDias\n10 de Ma
 io\nHora\n9h às 13h\nLotação\n20 pessoas\n\nComprar aqui \nA fotografia
  de natureza destaca-se como um dos géneros mais desafiantes\, mas també
 m um dos mais fascinantes.\nExige conhecimento e experiência técnica\, p
 aciência\, tolerância e um profundo respeito pelos seres vivos. Além di
 sso\, envolve enfrentar desafios físicos\, elementos imprevisíveis e\, m
 uitas vezes\, momentos de frustração.\n\nNo entanto\, os resultados pode
 m surpreender pela emoção\, narrativa\, originalidade\, detalhe e perspe
 tiva que oferecem ao observador.\n\nLançamos uma nova oportunidade focada
  na Fotografia da Natureza: A Luz e o Tempo.\n\nO formador\, fotógrafo Jo
 rge Leite\, profundo conhecedor das técnicas e da nossa floresta\, conta 
 com uma vasta experiência comprovada e amplamente aprovada pelo público 
 que já participou nos seus workshops – e\, claro\, por nós!\n\nTemas a
 bordados:\n\n 	Mudança da estação\nFotografar elementos que contam uma 
 história.\n 	Luz e sombra\nEnfrentar o desafio da exposição em cenário
 s de contrastes extremos.\n 	Alimentos na natureza\nCapturar frutos silves
 tres\, cogumelos\, sementes e fungos.\n 	Animais no seu habitat natural\nE
 xplorar o modo de disparo automático e a velocidade do obturador.\n 	Riac
 hos\, cascatas e gotas de água\nCriar efeitos de véu\, transparências e
  reflexos inesperados.\n 	Flores\nProduzir imagens delicadas e\, ao mesmo 
 tempo\, impactantes.\n 	Bónus! Padrões de raios e sombras\nObservar o co
 mportamento da luz em diferentes ambientes.\n\nOs desafios da Fotografia d
 e Natureza:\n\n 	Sujeitos imprevisíveis\n 	Considerações éticas\n 	Con
 dições adversas\n 	Exigência e custo do equipamento\n 	Preparação fí
 sica necessária\n\nOs benefícios da Fotografia de Natureza:\n\n 	Conexã
 o profunda com a natureza\n 	Momentos e encontros únicos\n 	Impacto posit
 ivo na conservação\n 	Partilha de imagens autênticas e inspiradoras\n\n
 Nota: \n\nA realização do workshop requer um mínimo de 6 participantes
 .\n\nCaso este requisito não seja cumprido\, a TNM reserva-se o direito d
 e cancelar a experiência\, assegurando a devolução do valor dos bilhete
 s\, com uma antecedência mínima de 48 horas.\n\nEsta modalidade de visit
 a não é permitida a crianças com menos de 13 anos.\n\n\n			#gallery-1 {
 \n				margin: auto\;\n			}\n			#gallery-1 .gallery-item {\n				float: left
 \;\n				margin-top: 10px\;\n				text-align: center\;\n				width: 33%\;\n		
 	}\n			#gallery-1 img {\n				border: 2px solid #cfcfcf\;\n			}\n			#galler
 y-1 .gallery-caption {\n				margin-left: 0\;\n			}\n			/* see gallery_shor
 tcode() in wp-includes/media.php */\n		\n\n 	\n\n\n 	\n\n\n 	\n\n&nbsp\;\n
 \nSobre o formador \n\nJorge Bodroghy Leite é fotógrafo atuante e profes
 sor sobre o assunto na USEMA de Mafra. Com um estilo jornalístico\, Jorge
  detém o diploma profissional\, emitido pelo New York Institute of Photog
 raphy em 13 de março de 2009.\n\nNesta área\, Jorge Leite já realizou t
 rabalhos comerciais e voluntários para instituições como a TePe Brazil\
 , Arthritis Foundation – Dallas Chapter\, Dallas Chocolate Organization 
 e Anya’s Naankhatai.\n\nEm 2024 alguns dos seus trabalhos fizeram parte 
 da exposição fotográfica “Conservação\, Biodiversidade e História
 ” que decorreu no âmbito da comemoração dos 280 anos da Tapada Nacion
 al de Mafra.\n\nResidiu nos Estados Unidos durante 25 anos e trabalhou com
 o consultor e especialista nas áreas de risco\, segurança e gerência de
  projetos de tecnologia da informação.\n\nComo gerente em tecnologia\, s
 erviu grandes empresas como IBM\, JPMorganChase\, Fidelity\, Bank of Ameri
 ca Merrill Lynch\, Capital One e Citibank.\n\nAlém de um mestrado em Ger
 ência Avançada de Projetos de Tecnologia pela Columbia University in the
  City of New York\, mantém várias outras certificações relevantes nest
 a indústria.
ATTACH;FMTTYPE=image/jpeg:https://tapadademafra.pt/wp-content/uploads/2025
 /04/Topo_site_workshopFotog.1100-x-400-px-1.png
CATEGORIES:Eventos Especiais
LOCATION:Tapada Nacional de Mafra\, Portão do Codeçal\, Mafra\, Portugal
X-APPLE-STRUCTURED-LOCATION;VALUE=URI;X-ADDRESS=Portão do Codeçal\, Mafra
 \, Portugal;X-APPLE-RADIUS=100;X-TITLE=Tapada Nacional de Mafra:geo:0,0
END:VEVENT
BEGIN:VTIMEZONE
TZID:Europe/Lisbon
X-LIC-LOCATION:Europe/Lisbon
BEGIN:DAYLIGHT
DTSTART:20250330T020000
TZOFFSETFROM:+0000
TZOFFSETTO:+0100
TZNAME:WEST
END:DAYLIGHT
END:VTIMEZONE
END:VCALENDAR