BEGIN:VCALENDAR
VERSION:2.0
PRODID:-//wp-events-plugin.com//7.2.3.1//EN
TZID:Europe/Lisbon
X-WR-TIMEZONE:Europe/Lisbon
BEGIN:VEVENT
UID:17@tapadademafra.pt
DTSTART;TZID=Europe/Lisbon:20240420T090000
DTEND;TZID=Europe/Lisbon:20240420T130000
DTSTAMP:20240404T104715Z
URL:https://tapadademafra.pt/experiencias/workshop-de-fotografia-de-nature
 za/
SUMMARY:Workshop de fotografia de natureza
DESCRIPTION:/*! elementor - v3.16.0 - 09-10-2023 */\n.elementor-widget-imag
 e{text-align:center}.elementor-widget-image a{display:inline-block}.elemen
 tor-widget-image a img[src$=".svg"]{width:48px}.elementor-widget-image img
 {vertical-align:middle\;display:inline-block}\n\n\n\n\nBilhete valor únic
 o (&gt\;13 anos) – 50€\nDias\n20 de Abril\nHora\n9h-13h\nDuração\n24
 0 min\nLotação\n20 pessoas\n\n\nComprar aqui\n\n\nRequesitos:\n\n 	Equip
 amento fotográfico digital (câmaras\, telemóveis ou tablets)\;\n 	Excel
 ente conhecimento sobre a capacidade e funcionalidades do equipamento foto
 gráfico a ser utilizado no evento\;\n\n\n 	Noções essenciais de teoria 
 da fotografia\;\n 	Idade mínima 13 anos.\n\nConteúdos\n\n 	O mito da “
 boa” fotografia\;\n 	Princípios básicos de composição\;\n 	Noções 
 essenciais sobre exposição (abertura\, velocidade e sensibilidade ou ISO
 )\;\n 	Modo automático\, manual e semi-automático\;\n 	Enquadramento\;\n
  	Distância focal e zoom\;\n 	Arte através da fotografia: sujeito (vocab
 ulário)\, composição (gramática)\, intenção (mensagem)\;\n\n\nSaber 
 mais\n\n\n/*! elementor - v3.16.0 - 09-10-2023 */\n.elementor-image-galler
 y .gallery-item{display:inline-block\;text-align:center\;vertical-align:to
 p\;width:100%\;max-width:100%\;margin:0 auto}.elementor-image-gallery .gal
 lery-item img{margin:0 auto}.elementor-image-gallery .gallery-item .galler
 y-caption{margin:0}.elementor-image-gallery figure img{display:block}.elem
 entor-image-gallery figure figcaption{width:100%}.gallery-spacing-custom .
 elementor-image-gallery .gallery-icon{padding:0}@media (min-width:768px){.
 elementor-image-gallery .gallery-columns-2 .gallery-item{max-width:50%}.el
 ementor-image-gallery .gallery-columns-3 .gallery-item{max-width:33.33%}.e
 lementor-image-gallery .gallery-columns-4 .gallery-item{max-width:25%}.ele
 mentor-image-gallery .gallery-columns-5 .gallery-item{max-width:20%}.eleme
 ntor-image-gallery .gallery-columns-6 .gallery-item{max-width:16.666%}.ele
 mentor-image-gallery .gallery-columns-7 .gallery-item{max-width:14.28%}.el
 ementor-image-gallery .gallery-columns-8 .gallery-item{max-width:12.5%}.el
 ementor-image-gallery .gallery-columns-9 .gallery-item{max-width:11.11%}.e
 lementor-image-gallery .gallery-columns-10 .gallery-item{max-width:10%}}@m
 edia (min-width:480px) and (max-width:767px){.elementor-image-gallery .gal
 lery.gallery-columns-2 .gallery-item\,.elementor-image-gallery .gallery.ga
 llery-columns-3 .gallery-item\,.elementor-image-gallery .gallery.gallery-c
 olumns-4 .gallery-item\,.elementor-image-gallery .gallery.gallery-columns-
 5 .gallery-item\,.elementor-image-gallery .gallery.gallery-columns-6 .gall
 ery-item\,.elementor-image-gallery .gallery.gallery-columns-7 .gallery-ite
 m\,.elementor-image-gallery .gallery.gallery-columns-8 .gallery-item\,.ele
 mentor-image-gallery .gallery.gallery-columns-9 .gallery-item\,.elementor-
 image-gallery .gallery.gallery-columns-10 .gallery-item{max-width:50%}}@me
 dia (max-width:479px){.elementor-image-gallery .gallery.gallery-columns-2 
 .gallery-item\,.elementor-image-gallery .gallery.gallery-columns-3 .galler
 y-item\,.elementor-image-gallery .gallery.gallery-columns-4 .gallery-item\
 ,.elementor-image-gallery .gallery.gallery-columns-5 .gallery-item\,.eleme
 ntor-image-gallery .gallery.gallery-columns-6 .gallery-item\,.elementor-im
 age-gallery .gallery.gallery-columns-7 .gallery-item\,.elementor-image-gal
 lery .gallery.gallery-columns-8 .gallery-item\,.elementor-image-gallery .g
 allery.gallery-columns-9 .gallery-item\,.elementor-image-gallery .gallery.
 gallery-columns-10 .gallery-item{max-width:100%}} \n			#gallery-1 {\n				m
 argin: auto\;\n			}\n			#gallery-1 .gallery-item {\n				float: left\;\n			
 	margin-top: 10px\;\n				text-align: center\;\n				width: 50%\;\n			}\n			
 #gallery-1 img {\n				border: 2px solid #cfcfcf\;\n			}\n			#gallery-1 .ga
 llery-caption {\n				margin-left: 0\;\n			}\n			/* see gallery_shortcode()
  in wp-includes/media.php */\n		\n\n 	\n\n\n 	\n\n&nbsp\;\n\n 	\n\n\n 	\n\
 n&nbsp\;
ATTACH;FMTTYPE=image/jpeg:https://tapadademafra.pt/wp-content/uploads/2024
 /04/site-topo-pag-1101-×-400-px-3.png
CATEGORIES:Comemoração 280 anos
LOCATION:Tapada Nacional de Mafra\, Portão do Codeçal\, Mafra\, Portugal
X-APPLE-STRUCTURED-LOCATION;VALUE=URI;X-ADDRESS=Portão do Codeçal\, Mafra
 \, Portugal;X-APPLE-RADIUS=100;X-TITLE=Tapada Nacional de Mafra:geo:0,0
END:VEVENT
BEGIN:VTIMEZONE
TZID:Europe/Lisbon
X-LIC-LOCATION:Europe/Lisbon
BEGIN:DAYLIGHT
DTSTART:20240331T020000
TZOFFSETFROM:+0000
TZOFFSETTO:+0100
TZNAME:WEST
END:DAYLIGHT
END:VTIMEZONE
END:VCALENDAR