BEGIN:VCALENDAR
VERSION:2.0
PRODID:-//wp-events-plugin.com//7.2.3.1//EN
TZID:Europe/Lisbon
X-WR-TIMEZONE:Europe/Lisbon
BEGIN:VEVENT
UID:45@tapadademafra.pt
DTSTART;TZID=Europe/Lisbon:20250621T093000
DTEND;TZID=Europe/Lisbon:20250621T133000
DTSTAMP:20250523T170214Z
URL:https://tapadademafra.pt/experiencias/workshop-de-fotografia-de-nature
 za-para-la-da-imagem/
SUMMARY:Workshop de Fotografia de Natureza: Para Lá da Imagem
DESCRIPTION:Workshop envolvente para aprender a olhar a natureza com um nov
 o enquadramento — através da objetiva e da criatividade.\n\nAo longo da
  sessão\, iremos abordar desde os princípios essenciais até às abordag
 ens mais criativas que elevam cada fotografia a uma expressão artística 
 única.\n\n\n\n\nBilhete Adultos (&gt\;13 anos) – 50€\nDias\n21 de Jun
 ho\nHora\n9h30-13h30\nLotação\n20 pessoas\n\nCOMPRAR AQUI \nUma oportuni
 dade para praticar na natureza os seguintes aspetos:\n\n 	O mito da qualid
 ade ou "boa" fotografia: Entenda além da técnica\, a essência que torna
  uma foto memorável.\n 	Princípios básicos de composição: Aprenda com
 o organizar elementos na imagem para criar impacto visual.\n 	Noções ess
 enciais sobre exposição: Domine abertura\, velocidade e sensibilidade pa
 ra controlar a luz como um profissional.\n 	Modo automático\, manual e se
 mi-automático: Explore os diferentes modos da câmara e escolha o mais ad
 equado para cada situação.\n 	Enquadramento: Utilize técnicas de enquad
 ramento para destacar o seu sujeito e contar uma história visual.\n 	Dist
 ância focal e zoom: Manipule a distância focal e o zoom para criar persp
 etivas únicas e detalhes impressionantes.\n 	Arte através da fotografia:
  Desenvolva o seu vocabulário visual\, dominando a gramática da composi
 ção e transmitindo uma mensagem artística através das suas fotografias
 .\n\nNão perca esta oportunidade de aprimorar suas habilidades fotográfi
 cas e capturar a beleza da natureza. Este workshop é ideal para entusiast
 as da fotografia de todos os níveis de experiência.\n\nA realização do
  workshop requer um mínimo de 6 participantes.\n\nCaso este requisito nã
 o seja cumprido\, a TNM reserva-se o direito de cancelar a experiência\, 
 assegurando a devolução do valor dos bilhetes\, com uma antecedência m
 ínima de 48 horas.\n\nEsta modalidade de visita não é permitida a crian
 ças com menos de 13 anos.\n\nSobre o formador\n\nJorge Bodroghy Leite é 
 fotógrafo atuante e professor sobre o assunto na USEMA de Mafra. Com um e
 stilo jornalístico\, Jorge detém o diploma profissional\, emitido pelo N
 ew York Institute of Photography em 13 de março de 2009.\n\nNesta área\,
  Jorge Leite já realizou trabalhos comerciais e voluntários para institu
 ições como a TePe Brazil\, Arthritis Foundation – Dallas Chapter\, Dal
 las Chocolate Organization e Anya’s Naankhatai.\n\nEm 2024 alguns dos se
 us trabalhos fizeram parte da exposição fotográfica “Conservação\, 
 Biodiversidade e História” que decorreu no âmbito da comemoração dos
  280 anos da Tapada Nacional de Mafra.\n\nResidiu nos Estados Unidos duran
 te 25 anos e trabalhou como consultor e especialista nas áreas de risco\,
  segurança e gerência de projetos de tecnologia da informação.\n\nComo
  gerente em tecnologia\, serviu grandes empresas como IBM\, JPMorganChase\
 , Fidelity\, Bank of America Merrill Lynch\, Capital One e Citibank.\n\nAl
 ém de um mestrado em Gerência Avançada de Projetos de Tecnologia pela C
 olumbia University in the City of New York\, mantém várias outras certif
 icações relevantes nesta indústria.\n\n\n\n
ATTACH;FMTTYPE=image/jpeg:https://tapadademafra.pt/wp-content/uploads/2025
 /05/topo_workshop.png
CATEGORIES:Eventos Especiais
LOCATION:Tapada Nacional de Mafra\, Portão do Codeçal\, Mafra\, Portugal
X-APPLE-STRUCTURED-LOCATION;VALUE=URI;X-ADDRESS=Portão do Codeçal\, Mafra
 \, Portugal;X-APPLE-RADIUS=100;X-TITLE=Tapada Nacional de Mafra:geo:0,0
END:VEVENT
BEGIN:VTIMEZONE
TZID:Europe/Lisbon
X-LIC-LOCATION:Europe/Lisbon
BEGIN:DAYLIGHT
DTSTART:20250330T020000
TZOFFSETFROM:+0000
TZOFFSETTO:+0100
TZNAME:WEST
END:DAYLIGHT
END:VTIMEZONE
END:VCALENDAR