BEGIN:VCALENDAR
VERSION:2.0
PRODID:-//wp-events-plugin.com//7.2.3.1//EN
TZID:Europe/Lisbon
X-WR-TIMEZONE:Europe/Lisbon
BEGIN:VEVENT
UID:6@tapadademafra.pt
DTSTART;TZID=Europe/Lisbon:20231125T161500
DTEND;TZID=Europe/Lisbon:20231125T173000
DTSTAMP:20231115T165513Z
URL:https://tapadademafra.pt/experiencias/veados-ao-crepusculo-ultimo-dia/
SUMMARY:Veados ao crepúsculo - ultimo dia
DESCRIPTION:Viva a experiência única de uma visita à floresta ao entarde
 cer\, onde a natureza revela os seus segredos mais encantadores. Junte-se 
 a nós para uma observação fascinante de veados ao crepúsculo\, uma sin
 fonia de beleza selvagem que ficará eternamente gravada na sua memória. 
 Aventure-se na magia da natureza connosco!\n\n/*! elementor - v3.16.0 - 09
 -10-2023 */.elementor-widget-image{text-align:center}.elementor-widget-ima
 ge a{display:inline-block}.elementor-widget-image a img[src$=".svg"]{width
 :48px}.elementor-widget-image img{vertical-align:middle\;display:inline-bl
 ock}\n\n\n\n\nBilhete Adulto (&gt\;12 anos): 12€\nBilhete criança dos 1
  aos 3 anos: 5€\nBilhete criança dos 4 aos 12 anos: 8\,5€\nBilhete s
 énior (+65 anos): 9\,75€\nDias\n18 e 25 de Novembro\nHora\n16h15\nDura
 ção\n75 min\nLotação\n12 pessoas\n\n/*! elementor - v3.16.0 - 09-10-20
 23 */.elementor-image-gallery .gallery-item{display:inline-block\;text-ali
 gn:center\;vertical-align:top\;width:100%\;max-width:100%\;margin:0 auto}.
 elementor-image-gallery .gallery-item img{margin:0 auto}.elementor-image-g
 allery .gallery-item .gallery-caption{margin:0}.elementor-image-gallery fi
 gure img{display:block}.elementor-image-gallery figure figcaption{width:10
 0%}.gallery-spacing-custom .elementor-image-gallery .gallery-icon{padding:
 0}@media (min-width:768px){.elementor-image-gallery .gallery-columns-2 .ga
 llery-item{max-width:50%}.elementor-image-gallery .gallery-columns-3 .gall
 ery-item{max-width:33.33%}.elementor-image-gallery .gallery-columns-4 .gal
 lery-item{max-width:25%}.elementor-image-gallery .gallery-columns-5 .galle
 ry-item{max-width:20%}.elementor-image-gallery .gallery-columns-6 .gallery
 -item{max-width:16.666%}.elementor-image-gallery .gallery-columns-7 .galle
 ry-item{max-width:14.28%}.elementor-image-gallery .gallery-columns-8 .gall
 ery-item{max-width:12.5%}.elementor-image-gallery .gallery-columns-9 .gall
 ery-item{max-width:11.11%}.elementor-image-gallery .gallery-columns-10 .ga
 llery-item{max-width:10%}}@media (min-width:480px) and (max-width:767px){.
 elementor-image-gallery .gallery.gallery-columns-2 .gallery-item\,.element
 or-image-gallery .gallery.gallery-columns-3 .gallery-item\,.elementor-imag
 e-gallery .gallery.gallery-columns-4 .gallery-item\,.elementor-image-galle
 ry .gallery.gallery-columns-5 .gallery-item\,.elementor-image-gallery .gal
 lery.gallery-columns-6 .gallery-item\,.elementor-image-gallery .gallery.ga
 llery-columns-7 .gallery-item\,.elementor-image-gallery .gallery.gallery-c
 olumns-8 .gallery-item\,.elementor-image-gallery .gallery.gallery-columns-
 9 .gallery-item\,.elementor-image-gallery .gallery.gallery-columns-10 .gal
 lery-item{max-width:50%}}@media (max-width:479px){.elementor-image-gallery
  .gallery.gallery-columns-2 .gallery-item\,.elementor-image-gallery .galle
 ry.gallery-columns-3 .gallery-item\,.elementor-image-gallery .gallery.gall
 ery-columns-4 .gallery-item\,.elementor-image-gallery .gallery.gallery-col
 umns-5 .gallery-item\,.elementor-image-gallery .gallery.gallery-columns-6 
 .gallery-item\,.elementor-image-gallery .gallery.gallery-columns-7 .galler
 y-item\,.elementor-image-gallery .gallery.gallery-columns-8 .gallery-item\
 ,.elementor-image-gallery .gallery.gallery-columns-9 .gallery-item\,.eleme
 ntor-image-gallery .gallery.gallery-columns-10 .gallery-item{max-width:100
 %}} \n			#gallery-1 {				margin: auto\;			}			#gallery-1 .gallery-item {		
 		float: left\;				margin-top: 10px\;				text-align: center\;				width: 50
 %\;			}			#gallery-1 img {				border: 2px solid #cfcfcf\;			}			#gallery-1
  .gallery-caption {				margin-left: 0\;			}			/* see gallery_shortcode() i
 n wp-includes/media.php */		\n\n 	\n 	Veado a espreitar ao crepúsculo\n\n
 \n 	\n 	Cervídeo ao crepúsculo\n\n&nbsp\;\n\n 	\n 	veado fêmea e cria\n
 \n\n 	\n 	crepúsculo na Tapada\n\n&nbsp\;\n\n 	\n 	Cerva\n\n\n 	\n\n&nbsp
 \;
ATTACH;FMTTYPE=image/jpeg:https://tapadademafra.pt/wp-content/uploads/2023
 /11/HP_noticias_800x800-7.png
CATEGORIES:Conhecer a Tapada
LOCATION:Tapada Nacional de Mafra\, Portão do Codeçal\, Mafra\, Portugal
X-APPLE-STRUCTURED-LOCATION;VALUE=URI;X-ADDRESS=Portão do Codeçal\, Mafra
 \, Portugal;X-APPLE-RADIUS=100;X-TITLE=Tapada Nacional de Mafra:geo:0,0
END:VEVENT
BEGIN:VTIMEZONE
TZID:Europe/Lisbon
X-LIC-LOCATION:Europe/Lisbon
BEGIN:STANDARD
DTSTART:20231029T010000
TZOFFSETFROM:+0100
TZOFFSETTO:+0000
TZNAME:WET
END:STANDARD
END:VTIMEZONE
END:VCALENDAR