BEGIN:VCALENDAR
VERSION:2.0
PRODID:-//wp-events-plugin.com//7.2.3.1//EN
TZID:Europe/Lisbon
X-WR-TIMEZONE:Europe/Lisbon
BEGIN:VEVENT
UID:9@tapadademafra.pt
DTSTART;TZID=Europe/Lisbon:20240519T090000
DTEND;TZID=Europe/Lisbon:20240519T130000
DTSTAMP:20240131T163602Z
URL:https://tapadademafra.pt/experiencias/trail-da-tapada-real/
SUMMARY:Trail da Tapada Real
DESCRIPTION:No âmbito dos eventos comemorativos dos 280 anos que esta flor
 esta única celebra em 2024\, irá decorrer uma prova desportiva\, “Trai
 l da Tapada Real” no dia 19 de Maio.\n\nTodos os percursos decorrem excl
 usivamente dentro da Tapada Real como também é conhecida.\n\nHaverá 3 p
 ercursos\nTrail Longo – 20 km\nTrail Curto – 12 km\nCaminhada – 12 k
 m\n\nNúmero de inscrições é limitado ao número onde o respeito pelo e
 spaço e animais é mantido.\n\nInscreva-se para desfrutar deste espaço n
 atural através da modalidade desportiva\, sempre em sintonia e respeito c
 om a natureza.\n\nA Organização do evento é da responsabilidade do parc
 eiro @trail_4u e da Tapada Nacional de Mafra.\n\nInscreva-se seguindo o 
 link e conheça o regulamento.\n\n/*! elementor - v3.16.0 - 09-10-2023 */.
 elementor-widget-image{text-align:center}.elementor-widget-image a{display
 :inline-block}.elementor-widget-image a img[src$=".svg"]{width:48px}.eleme
 ntor-widget-image img{vertical-align:middle\;display:inline-block}\n\n\n\n
 \nDepende da data de inscrição e tipo de trilho.\nDias\n19 de Maio\nHora
 \n09h\nDuração\nmáximo de 300 min\n\nInscrição \nInscrição e regula
 mento aqui
ATTACH;FMTTYPE=image/jpeg:https://tapadademafra.pt/wp-content/uploads/2024
 /01/trail_280_site.png
CATEGORIES:Comemoração 280 anos
LOCATION:Tapada Nacional de Mafra\, Portão do Codeçal\, Mafra\, Portugal
X-APPLE-STRUCTURED-LOCATION;VALUE=URI;X-ADDRESS=Portão do Codeçal\, Mafra
 \, Portugal;X-APPLE-RADIUS=100;X-TITLE=Tapada Nacional de Mafra:geo:0,0
END:VEVENT
BEGIN:VTIMEZONE
TZID:Europe/Lisbon
X-LIC-LOCATION:Europe/Lisbon
BEGIN:DAYLIGHT
DTSTART:20240331T020000
TZOFFSETFROM:+0000
TZOFFSETTO:+0100
TZNAME:WEST
END:DAYLIGHT
END:VTIMEZONE
END:VCALENDAR