BEGIN:VCALENDAR
VERSION:2.0
PRODID:-//wp-events-plugin.com//7.2.3.1//EN
TZID:Europe/Lisbon
X-WR-TIMEZONE:Europe/Lisbon
BEGIN:VEVENT
UID:35@tapadademafra.pt
DTSTART;TZID=Europe/Lisbon:20250202T100000
DTEND;TZID=Europe/Lisbon:20250202T123000
DTSTAMP:20250123T134426Z
URL:https://tapadademafra.pt/experiencias/sera-que-aqui-ha-vida/
SUMMARY:Será que aqui há vida?
DESCRIPTION:No âmbito do Dia Mundial das Zonas Húmidas\, a Tapada Naciona
 l de Mafra promove a experiência temática "Será que aqui há vida?".\n\
 nEste percurso interpretativo de cerca de 2\,5 km pela floresta irá revel
 ar os segredos das nossas zonas húmidas\, permitindo-lhe observar de pert
 o a sua biodiversidade e compreender a importância da sua preservação. 
 As zonas húmidas são dos ecossistemas mais ricos e produtivos em biodive
 rsidade\, essenciais para o equilíbrio ambiental e para a nossa sobreviv
 ência. Inspirados pela Convenção de Ramsar\, assinada a 2 de fevereiro 
 de 1971\, convidamo-lo a explorar o valor destes habitats únicos.\n\nDesc
 ubra\, aprenda e inspire-se\, porque só preservamos o que conhecemos. Sab
 er é poder! 💧✨\n\n\n\n\nBilhete Adultos (&gt\;12 anos) – 10€\nBi
 lhete Sénior (&gt\;65 anos)- 8\,5€\n\nBilhete criança dos 8 - 12 anos 
 – 7.5€\nDias\n2 de Fevereiro\nHora\n10h-12h30\nDuração\n150 min\n\nB
 ilhetes \nNota:\n\nSugerimos que traga calçado confortável e impermeáve
 l\, casaco quente e água.\n\nEsta modalidade de visita não é permitida 
 a crianças com menos de 08 anos.\n\n\n			#gallery-1 {				margin: auto\;		
 	}			#gallery-1 .gallery-item {				float: left\;				margin-top: 10px\;				
 text-align: center\;				width: 33%\;			}			#gallery-1 img {				border: 2px
  solid #cfcfcf\;			}			#gallery-1 .gallery-caption {				margin-left: 0\;		
 	}			/* see gallery_shortcode() in wp-includes/media.php */		\n\n 	\n\n\n 
 	\n\n\n 	\n\n&nbsp\;
ATTACH;FMTTYPE=image/jpeg:https://tapadademafra.pt/wp-content/uploads/2025
 /01/topo_exp_epoca_conservacao-1.png
CATEGORIES:Eventos Especiais
LOCATION:Tapada Nacional de Mafra\, Portão do Codeçal\, Mafra\, Portugal
X-APPLE-STRUCTURED-LOCATION;VALUE=URI;X-ADDRESS=Portão do Codeçal\, Mafra
 \, Portugal;X-APPLE-RADIUS=100;X-TITLE=Tapada Nacional de Mafra:geo:0,0
END:VEVENT
BEGIN:VTIMEZONE
TZID:Europe/Lisbon
X-LIC-LOCATION:Europe/Lisbon
BEGIN:STANDARD
DTSTART:20241027T010000
TZOFFSETFROM:+0100
TZOFFSETTO:+0000
TZNAME:WET
END:STANDARD
END:VTIMEZONE
END:VCALENDAR