BEGIN:VCALENDAR
VERSION:2.0
PRODID:-//wp-events-plugin.com//7.2.3.1//EN
TZID:Europe/Lisbon
X-WR-TIMEZONE:Europe/Lisbon
BEGIN:VEVENT
UID:46@tapadademafra.pt
DTSTART;TZID=Europe/Lisbon:20250601T090000
DTEND;TZID=Europe/Lisbon:20250601T160000
DTSTAMP:20250526T101401Z
URL:https://tapadademafra.pt/experiencias/dia-da-crianca/
SUMMARY:Dia da Criança
DESCRIPTION:															\n																														\n		Entrada grat
 uita para todas as crianças até aos 12 anos\, acompanhadas por adultos c
 om bilhete válido.  		\n																	\n					                    			
 								Dias									    \n									\n																	\n										01 de J
 unho\n									\n																	\n					                    											Ho
 ra									    \n									\n																	\n										Todo o dia							
 		\n																	\n					                    											Oferta do bilhe
 te da Criança									    \n									\n																	\n										Para 
 qualquer um dos Passes de dia disponíveis.									\n		No próximo 1 de j
 unho\, celebramos o Dia da Criança com uma oferta especial: Escolham ent
 re os nossos dois Passes de Dia e aproveitem ao máximo: Caminhar na Flore
 sta Passear na Tapada Descubram tudo o que cada programa inclui clique no 
 link.  Nota importante: esta oferta é exclusiva na bilheteira física 
 – não disponível online. Esperamos por vocês para um dia cheio de na
 tureza\, descoberta e magia!
ATTACH;FMTTYPE=image/jpeg:https://tapadademafra.pt/wp-content/uploads/2025
 /05/site-topo-pag-1101-×-400-px-5.png
CATEGORIES:Eventos Especiais
LOCATION:Tapada Nacional de Mafra\, Portão do Codeçal\, Mafra\, Portugal
X-APPLE-STRUCTURED-LOCATION;VALUE=URI;X-ADDRESS=Portão do Codeçal\, Mafra
 \, Portugal;X-APPLE-RADIUS=100;X-TITLE=Tapada Nacional de Mafra:geo:0,0
END:VEVENT
BEGIN:VTIMEZONE
TZID:Europe/Lisbon
X-LIC-LOCATION:Europe/Lisbon
BEGIN:DAYLIGHT
DTSTART:20250330T020000
TZOFFSETFROM:+0000
TZOFFSETTO:+0100
TZNAME:WEST
END:DAYLIGHT
END:VTIMEZONE
END:VCALENDAR