BEGIN:VCALENDAR
VERSION:2.0
PRODID:-//wp-events-plugin.com//7.2.3.1//EN
TZID:Europe/Lisbon
X-WR-TIMEZONE:Europe/Lisbon
BEGIN:VEVENT
UID:29@tapadademafra.pt
DTSTART;TZID=Europe/Lisbon:20241207T093000
DTEND;TZID=Europe/Lisbon:20241207T173000
DTSTAMP:20241011T115353Z
URL:https://tapadademafra.pt/experiencias/curso-de-iniciacao-a-falcoaria-n
 ivel-ii/
SUMMARY:Curso de iniciação à Falcoaria nível II
DESCRIPTION:/*! elementor - v3.16.0 - 09-10-2023 */\n.elementor-widget-imag
 e{text-align:center}.elementor-widget-image a{display:inline-block}.elemen
 tor-widget-image a img[src$=".svg"]{width:48px}.elementor-widget-image img
 {vertical-align:middle\;display:inline-block}																											\n
 																														\n		Bilhete Adultos (&gt\;16 anos) – 60€
 		\n																	\n					                    											Dias									  
   \n									\n																	\n										7 de Dezembro\n									\n				
 													\n					                    											Hora									    \n				
 					\n																	\n										9h30-17h									\n																	\n
 					                    											Duração									    \n									\n			
 														\n										360 min									\n																	\n					      
               											\n												Comprar aqui											\n									\
 n		No segundo módulo deste curso teórico e prático de falcoaria\, explo
 raremos temas essenciais como o processo evolutivo das aves\, anatomia das
  aves de rapina\, diferentes métodos de criação e cuidados com a saúde
  das aves de presa. Este módulo contará com a participação da médica 
 veterinária Cristina Almeida como oradora convidada. Cristina é licencia
 da em Medicina Veterinária pela Faculdade de Medicina Veterinária da Uni
 versidade Técnica de Lisboa (FMV/UTL) e possui vasta experiência\, tendo
  contribuído com mais de 50 artigos\, comunicações e posters em congres
 sos e formações nacionais e internacionais. Na parte prática\, os part
 icipantes aprenderão a fabricar equipamento de falcoaria\, onde adquiri-l
 o e os métodos adequados de aparelhamento das aves. Esta é uma excelente
  oportunidade para aprofundar o conhecimento sobre as aves de rapina e a a
 rte da falcoaria\, contribuindo assim para a preservação das espécies a
 utóctones de aves de rapina.  Nota: Este curso está aberto a todos os
  interessados no tema\, mesmo aqueles sem o Nível I. No entanto\, a concl
 usão dos módulos anteriores é obrigatória para acesso ao Nível III.		
 \n			/*! elementor - v3.16.0 - 09-10-2023 */\n.elementor-image-gallery .ga
 llery-item{display:inline-block\;text-align:center\;vertical-align:top\;wi
 dth:100%\;max-width:100%\;margin:0 auto}.elementor-image-gallery .gallery-
 item img{margin:0 auto}.elementor-image-gallery .gallery-item .gallery-cap
 tion{margin:0}.elementor-image-gallery figure img{display:block}.elementor
 -image-gallery figure figcaption{width:100%}.gallery-spacing-custom .eleme
 ntor-image-gallery .gallery-icon{padding:0}@media (min-width:768px){.eleme
 ntor-image-gallery .gallery-columns-2 .gallery-item{max-width:50%}.element
 or-image-gallery .gallery-columns-3 .gallery-item{max-width:33.33%}.elemen
 tor-image-gallery .gallery-columns-4 .gallery-item{max-width:25%}.elemento
 r-image-gallery .gallery-columns-5 .gallery-item{max-width:20%}.elementor-
 image-gallery .gallery-columns-6 .gallery-item{max-width:16.666%}.elemento
 r-image-gallery .gallery-columns-7 .gallery-item{max-width:14.28%}.element
 or-image-gallery .gallery-columns-8 .gallery-item{max-width:12.5%}.element
 or-image-gallery .gallery-columns-9 .gallery-item{max-width:11.11%}.elemen
 tor-image-gallery .gallery-columns-10 .gallery-item{max-width:10%}}@media 
 (min-width:480px) and (max-width:767px){.elementor-image-gallery .gallery.
 gallery-columns-2 .gallery-item\,.elementor-image-gallery .gallery.gallery
 -columns-3 .gallery-item\,.elementor-image-gallery .gallery.gallery-column
 s-4 .gallery-item\,.elementor-image-gallery .gallery.gallery-columns-5 .ga
 llery-item\,.elementor-image-gallery .gallery.gallery-columns-6 .gallery-i
 tem\,.elementor-image-gallery .gallery.gallery-columns-7 .gallery-item\,.e
 lementor-image-gallery .gallery.gallery-columns-8 .gallery-item\,.elemento
 r-image-gallery .gallery.gallery-columns-9 .gallery-item\,.elementor-image
 -gallery .gallery.gallery-columns-10 .gallery-item{max-width:50%}}@media (
 max-width:479px){.elementor-image-gallery .gallery.gallery-columns-2 .gall
 ery-item\,.elementor-image-gallery .gallery.gallery-columns-3 .gallery-ite
 m\,.elementor-image-gallery .gallery.gallery-columns-4 .gallery-item\,.ele
 mentor-image-gallery .gallery.gallery-columns-5 .gallery-item\,.elementor-
 image-gallery .gallery.gallery-columns-6 .gallery-item\,.elementor-image-g
 allery .gallery.gallery-columns-7 .gallery-item\,.elementor-image-gallery 
 .gallery.gallery-columns-8 .gallery-item\,.elementor-image-gallery .galler
 y.gallery-columns-9 .gallery-item\,.elementor-image-gallery .gallery.galle
 ry-columns-10 .gallery-item{max-width:100%}}		\n		\n			#gallery-1 {\n				m
 argin: auto\;\n			}\n			#gallery-1 .gallery-item {\n				float: left\;\n			
 	margin-top: 10px\;\n				text-align: center\;\n				width: 33%\;\n			}\n			
 #gallery-1 img {\n				border: 2px solid #cfcfcf\;\n			}\n			#gallery-1 .ga
 llery-caption {\n				margin-left: 0\;\n			}\n			/* see gallery_shortcode()
  in wp-includes/media.php */\n		\n		\n			\n				\n			\n				\n				falcoeiro 
 com falconídeo na luva\n				\n			\n				\n			\n				\n				falcoeiro com cor
 uja das torres\n				\n			\n				\n			\n				\n				ave de rapina a sacudir-se
 \n				\n			\n				\n			\n				\n				ave de rapina com caparão\n				\n			\n	
 			\n			\n				\n				falcoeiro e bufo-real a prestar atenção\n				\n			\n
 				\n			
ATTACH;FMTTYPE=image/jpeg:https://tapadademafra.pt/wp-content/uploads/2024
 /10/curso-de-falcoaria24.png
CATEGORIES:Eventos Especiais
LOCATION:Tapada Nacional de Mafra\, Portão do Codeçal\, Mafra\, Portugal
X-APPLE-STRUCTURED-LOCATION;VALUE=URI;X-ADDRESS=Portão do Codeçal\, Mafra
 \, Portugal;X-APPLE-RADIUS=100;X-TITLE=Tapada Nacional de Mafra:geo:0,0
END:VEVENT
BEGIN:VTIMEZONE
TZID:Europe/Lisbon
X-LIC-LOCATION:Europe/Lisbon
BEGIN:STANDARD
DTSTART:20241027T010000
TZOFFSETFROM:+0100
TZOFFSETTO:+0000
TZNAME:WET
END:STANDARD
END:VTIMEZONE
END:VCALENDAR