BEGIN:VCALENDAR
VERSION:2.0
PRODID:-//wp-events-plugin.com//7.2.3.1//EN
TZID:Europe/Lisbon
X-WR-TIMEZONE:Europe/Lisbon
BEGIN:VEVENT
UID:28@tapadademafra.pt
DTSTART;TZID=Europe/Lisbon:20241123T093000
DTEND;TZID=Europe/Lisbon:20241123T173000
DTSTAMP:20241011T124706Z
URL:https://tapadademafra.pt/experiencias/curso-de-iniciacao-a-falcoaria-n
 ivel-i/
SUMMARY:Curso de iniciação à Falcoaria nível I
DESCRIPTION:/*! elementor - v3.16.0 - 09-10-2023 */\n.elementor-widget-imag
 e{text-align:center}.elementor-widget-image a{display:inline-block}.elemen
 tor-widget-image a img[src$=".svg"]{width:48px}.elementor-widget-image img
 {vertical-align:middle\;display:inline-block}\n\n\n\n\nBilhete Adultos (&g
 t\;16 anos) – 60€\nDias\n23 de Novembro\nHora\n09h30 - 17h\nDuração\
 n240 min\n\nComprar AQUI \nNível I\n\nA falcoaria é uma arte milenar que
  estabelece uma ligação única entre o Homem e a ave de presa. Com o obj
 etivo de guiar todos os que desejam iniciar-se nesta nobre prática\, dese
 nvolvemos um curso dividido em três fases distintas.\n\nNa primeira fase\
 , enfatizamos a responsabilidade de adquirir e cuidar de uma ave de presa\
 , essencial para a prática da falcoaria. Mais do que simplesmente caçar\
 , a falcoaria representa um verdadeiro modo de vida.\n\nO curso combina um
 a componente teórica em sala com atividades práticas nas instalações d
 a nossa falcoaria\, proporcionando uma experiência imersiva e educativa.\
 n\nNota importante:\n\nEste curso não está acessível a crianças e jove
 ns com menos de 16 anos.\n\n\nSaber mais sobre o curso nível II\n\n\n/*! 
 elementor - v3.16.0 - 09-10-2023 */\n.elementor-image-gallery .gallery-ite
 m{display:inline-block\;text-align:center\;vertical-align:top\;width:100%\
 ;max-width:100%\;margin:0 auto}.elementor-image-gallery .gallery-item img{
 margin:0 auto}.elementor-image-gallery .gallery-item .gallery-caption{marg
 in:0}.elementor-image-gallery figure img{display:block}.elementor-image-ga
 llery figure figcaption{width:100%}.gallery-spacing-custom .elementor-imag
 e-gallery .gallery-icon{padding:0}@media (min-width:768px){.elementor-imag
 e-gallery .gallery-columns-2 .gallery-item{max-width:50%}.elementor-image-
 gallery .gallery-columns-3 .gallery-item{max-width:33.33%}.elementor-image
 -gallery .gallery-columns-4 .gallery-item{max-width:25%}.elementor-image-g
 allery .gallery-columns-5 .gallery-item{max-width:20%}.elementor-image-gal
 lery .gallery-columns-6 .gallery-item{max-width:16.666%}.elementor-image-g
 allery .gallery-columns-7 .gallery-item{max-width:14.28%}.elementor-image-
 gallery .gallery-columns-8 .gallery-item{max-width:12.5%}.elementor-image-
 gallery .gallery-columns-9 .gallery-item{max-width:11.11%}.elementor-image
 -gallery .gallery-columns-10 .gallery-item{max-width:10%}}@media (min-widt
 h:480px) and (max-width:767px){.elementor-image-gallery .gallery.gallery-c
 olumns-2 .gallery-item\,.elementor-image-gallery .gallery.gallery-columns-
 3 .gallery-item\,.elementor-image-gallery .gallery.gallery-columns-4 .gall
 ery-item\,.elementor-image-gallery .gallery.gallery-columns-5 .gallery-ite
 m\,.elementor-image-gallery .gallery.gallery-columns-6 .gallery-item\,.ele
 mentor-image-gallery .gallery.gallery-columns-7 .gallery-item\,.elementor-
 image-gallery .gallery.gallery-columns-8 .gallery-item\,.elementor-image-g
 allery .gallery.gallery-columns-9 .gallery-item\,.elementor-image-gallery 
 .gallery.gallery-columns-10 .gallery-item{max-width:50%}}@media (max-width
 :479px){.elementor-image-gallery .gallery.gallery-columns-2 .gallery-item\
 ,.elementor-image-gallery .gallery.gallery-columns-3 .gallery-item\,.eleme
 ntor-image-gallery .gallery.gallery-columns-4 .gallery-item\,.elementor-im
 age-gallery .gallery.gallery-columns-5 .gallery-item\,.elementor-image-gal
 lery .gallery.gallery-columns-6 .gallery-item\,.elementor-image-gallery .g
 allery.gallery-columns-7 .gallery-item\,.elementor-image-gallery .gallery.
 gallery-columns-8 .gallery-item\,.elementor-image-gallery .gallery.gallery
 -columns-9 .gallery-item\,.elementor-image-gallery .gallery.gallery-column
 s-10 .gallery-item{max-width:100%}} \n			#gallery-1 {\n				margin: auto\;\
 n			}\n			#gallery-1 .gallery-item {\n				float: left\;\n				margin-top: 1
 0px\;\n				text-align: center\;\n				width: 33%\;\n			}\n			#gallery-1 img
  {\n				border: 2px solid #cfcfcf\;\n			}\n			#gallery-1 .gallery-caption 
 {\n				margin-left: 0\;\n			}\n			/* see gallery_shortcode() in wp-include
 s/media.php */\n		\n\n 	\n 	ave de rapina com caparão\n\n\n 	\n 	falcoeir
 o e bufo-real a prestar atenção\n\n\n 	\n\n&nbsp\;
ATTACH;FMTTYPE=image/jpeg:https://tapadademafra.pt/wp-content/uploads/2024
 /10/curso-de-falcoaria24.png
CATEGORIES:Eventos Especiais
LOCATION:Tapada Nacional de Mafra\, Portão do Codeçal\, Mafra\, Portugal
X-APPLE-STRUCTURED-LOCATION;VALUE=URI;X-ADDRESS=Portão do Codeçal\, Mafra
 \, Portugal;X-APPLE-RADIUS=100;X-TITLE=Tapada Nacional de Mafra:geo:0,0
END:VEVENT
BEGIN:VTIMEZONE
TZID:Europe/Lisbon
X-LIC-LOCATION:Europe/Lisbon
BEGIN:STANDARD
DTSTART:20241027T010000
TZOFFSETFROM:+0100
TZOFFSETTO:+0000
TZNAME:WET
END:STANDARD
END:VTIMEZONE
END:VCALENDAR