BEGIN:VCALENDAR
VERSION:2.0
PRODID:-//wp-events-plugin.com//7.2.3.1//EN
TZID:Europe/Lisbon
X-WR-TIMEZONE:Europe/Lisbon
BEGIN:VEVENT
UID:8@tapadademafra.pt
DTSTART;TZID=Europe/Lisbon:20240210T093000
DTEND;TZID=Europe/Lisbon:20240210T170000
DTSTAMP:20240131T161336Z
URL:https://tapadademafra.pt/experiencias/curso-de-falcoaria-de-nivel-ii/
SUMMARY:Curso de Falcoaria de nível II
DESCRIPTION:Para ser um falcoeiro e ter a arte de adestramento de aves de p
 resa\, o seu treino deve ser contínuo\, requerendo muita paciência e ded
 icação\, por parte do falcoeiro\, que deve conhecer as diferenças de ca
 da ave\, preparando os treinos consoante diferentes características físi
 cas e temperamentais.\n\nEstabelecer uma parceria entre a ave de presa e f
 alcoeiro não é tarefa fácil\, esta tem um medo natural do homem\, dific
 ultando o desenvolvimento de uma relação de confiança.\n\nAs aves de pr
 esa\, mesmo que treinadas\, não vão deixar de ser animais selvagens.\n\n
 “Paciência” e a “Metodologia” são o username e a palavra – cha
 ve do adestramento\, que deve ser feito por várias etapas obrigatórias q
 ue são imprescindíveis à aprendizagem do falcão.\n\nAssim e para dar c
 ontinuidade ao módulo anterior\, no dia 10 de Fevereiro teremos o 2º ní
 vel.\n\nPodem inscrever-se quem tem interesse no tema\, mesmo não tendo o
  1º nível\, no entanto\, para concluir a aprendizagem e ter acesso ao 3
 º nível tem de ter obrigatoriamente os níveis anteriores.\n\n/*! elemen
 tor - v3.16.0 - 09-10-2023 */\n.elementor-widget-image{text-align:center}.
 elementor-widget-image a{display:inline-block}.elementor-widget-image a im
 g[src$=".svg"]{width:48px}.elementor-widget-image img{vertical-align:middl
 e\;display:inline-block}\n\n\n\n\nBilhete Adultos (&gt\;16 anos) – 60€
 \nDias\n10 Fevereiro\nHora\n9h30-17h\nDuração\ntodo o dia\n1h30 para alm
 oço\nLotação\n20 pessoas\n\nNota:\n\nEste curso não está acessível a
  crianças e jovens com menos de 16 anos.\n\n/*! elementor - v3.16.0 - 09-
 10-2023 */\n.elementor-image-gallery .gallery-item{display:inline-block\;t
 ext-align:center\;vertical-align:top\;width:100%\;max-width:100%\;margin:0
  auto}.elementor-image-gallery .gallery-item img{margin:0 auto}.elementor-
 image-gallery .gallery-item .gallery-caption{margin:0}.elementor-image-gal
 lery figure img{display:block}.elementor-image-gallery figure figcaption{w
 idth:100%}.gallery-spacing-custom .elementor-image-gallery .gallery-icon{p
 adding:0}@media (min-width:768px){.elementor-image-gallery .gallery-column
 s-2 .gallery-item{max-width:50%}.elementor-image-gallery .gallery-columns-
 3 .gallery-item{max-width:33.33%}.elementor-image-gallery .gallery-columns
 -4 .gallery-item{max-width:25%}.elementor-image-gallery .gallery-columns-5
  .gallery-item{max-width:20%}.elementor-image-gallery .gallery-columns-6 .
 gallery-item{max-width:16.666%}.elementor-image-gallery .gallery-columns-7
  .gallery-item{max-width:14.28%}.elementor-image-gallery .gallery-columns-
 8 .gallery-item{max-width:12.5%}.elementor-image-gallery .gallery-columns-
 9 .gallery-item{max-width:11.11%}.elementor-image-gallery .gallery-columns
 -10 .gallery-item{max-width:10%}}@media (min-width:480px) and (max-width:7
 67px){.elementor-image-gallery .gallery.gallery-columns-2 .gallery-item\,.
 elementor-image-gallery .gallery.gallery-columns-3 .gallery-item\,.element
 or-image-gallery .gallery.gallery-columns-4 .gallery-item\,.elementor-imag
 e-gallery .gallery.gallery-columns-5 .gallery-item\,.elementor-image-galle
 ry .gallery.gallery-columns-6 .gallery-item\,.elementor-image-gallery .gal
 lery.gallery-columns-7 .gallery-item\,.elementor-image-gallery .gallery.ga
 llery-columns-8 .gallery-item\,.elementor-image-gallery .gallery.gallery-c
 olumns-9 .gallery-item\,.elementor-image-gallery .gallery.gallery-columns-
 10 .gallery-item{max-width:50%}}@media (max-width:479px){.elementor-image-
 gallery .gallery.gallery-columns-2 .gallery-item\,.elementor-image-gallery
  .gallery.gallery-columns-3 .gallery-item\,.elementor-image-gallery .galle
 ry.gallery-columns-4 .gallery-item\,.elementor-image-gallery .gallery.gall
 ery-columns-5 .gallery-item\,.elementor-image-gallery .gallery.gallery-col
 umns-6 .gallery-item\,.elementor-image-gallery .gallery.gallery-columns-7 
 .gallery-item\,.elementor-image-gallery .gallery.gallery-columns-8 .galler
 y-item\,.elementor-image-gallery .gallery.gallery-columns-9 .gallery-item\
 ,.elementor-image-gallery .gallery.gallery-columns-10 .gallery-item{max-wi
 dth:100%}} \n			#gallery-1 {\n				margin: auto\;\n			}\n			#gallery-1 .gal
 lery-item {\n				float: left\;\n				margin-top: 10px\;\n				text-align: ce
 nter\;\n				width: 50%\;\n			}\n			#gallery-1 img {\n				border: 2px solid
  #cfcfcf\;\n			}\n			#gallery-1 .gallery-caption {\n				margin-left: 0\;\n
 			}\n			/* see gallery_shortcode() in wp-includes/media.php */\n		\n\n 	\
 n 	curso de falcoaria II\n\n\n 	\n 	Bufo-Real\n\n&nbsp\;\n\n 	\n 	sessão 
 de falcoaria\n\n\n 	\n 	sessão de falcoaria- coruja das torres\n\n&nbsp\;
ATTACH;FMTTYPE=image/jpeg:https://tapadademafra.pt/wp-content/uploads/2024
 /01/5.png
CATEGORIES:Conhecer a Tapada
LOCATION:Tapada Nacional de Mafra\, Portão do Codeçal\, Mafra\, Portugal
X-APPLE-STRUCTURED-LOCATION;VALUE=URI;X-ADDRESS=Portão do Codeçal\, Mafra
 \, Portugal;X-APPLE-RADIUS=100;X-TITLE=Tapada Nacional de Mafra:geo:0,0
END:VEVENT
BEGIN:VTIMEZONE
TZID:Europe/Lisbon
X-LIC-LOCATION:Europe/Lisbon
BEGIN:STANDARD
DTSTART:20231029T010000
TZOFFSETFROM:+0100
TZOFFSETTO:+0000
TZNAME:WET
END:STANDARD
END:VTIMEZONE
END:VCALENDAR