BEGIN:VCALENDAR
VERSION:2.0
PRODID:-//wp-events-plugin.com//7.2.3.1//EN
TZID:Europe/Lisbon
X-WR-TIMEZONE:Europe/Lisbon
BEGIN:VEVENT
UID:7@tapadademafra.pt
DTSTART;TZID=Europe/Lisbon:20231208T103000
DTEND;TZID=Europe/Lisbon:20231210T113000
DTSTAMP:20231206T172844Z
URL:https://tapadademafra.pt/experiencias/charrete-de-natal/
SUMMARY:Charrete de Natal
DESCRIPTION:Um passeio com a mãe Natal e o Pardal na floresta encantada.
ATTACH;FMTTYPE=image/jpeg:https://tapadademafra.pt/wp-content/uploads/2023
 /11/Natal_23_4.jpg
CATEGORIES:Conhecer a Tapada
LOCATION:Tapada Nacional de Mafra\, Portão do Codeçal\, Mafra\, Portugal
X-APPLE-STRUCTURED-LOCATION;VALUE=URI;X-ADDRESS=Portão do Codeçal\, Mafra
 \, Portugal;X-APPLE-RADIUS=100;X-TITLE=Tapada Nacional de Mafra:geo:0,0
END:VEVENT
BEGIN:VTIMEZONE
TZID:Europe/Lisbon
X-LIC-LOCATION:Europe/Lisbon
BEGIN:STANDARD
DTSTART:20231029T010000
TZOFFSETFROM:+0100
TZOFFSETTO:+0000
TZNAME:WET
END:STANDARD
END:VTIMEZONE
END:VCALENDAR