BEGIN:VCALENDAR
VERSION:2.0
PRODID:-//wp-events-plugin.com//7.2.3.1//EN
TZID:Europe/Lisbon
X-WR-TIMEZONE:Europe/Lisbon
BEGIN:VEVENT
UID:1@tapadademafra.pt
DTSTART;TZID=Europe/Lisbon:20230923T143000
DTEND;TZID=Europe/Lisbon:20230923T163000
DTSTAMP:20231025T144107Z
URL:https://tapadademafra.pt/experiencias/aves-para-principes-a-falcoaria-
 na-idade-media-e-no-presente/
SUMMARY:Aves para Príncipes: A Falcoaria na Idade Média e no Presente
DESCRIPTION:Uma parceria da Tapada Nacional de Mafra com o Instituto de Est
 udos Medievais da Universidade Nova\, e os nossos parceiros Falcões no Oe
 ste\nNo âmbito da parceria e da participação do IEM nas Jornadas Europe
 ias do Património irá decorrer a atividade “Aves para Príncipes: A Fa
 lcoaria na Idade Média e no Presente”\n 23 de setembro | 14h30 | Tap
 ada de Mafra\, salão Dom Carlos\, Mafra\nA participação é gratuita\, 
 mas sujeita a inscrição e com uma lotação máxima de 30 pessoas\, at
 ravés do e-mail info@falcoesnooeste.pt.\nCuriosidades que esperamos respo
 nder:\nSabia que na Idade Média alguns tipos de falcão eram tão aprecia
 dos que valiam tanto como um carro de luxo nos dias de hoje?\nVenha conhec
 er os motivos para o fascínio das gentes medievais pela falcoaria.\nComo 
 surgiu em Portugal? Como se caçava? Como eram mantidas as aves? E por que
 m?\nA atividade termina com a observação do voo das aves de rapina no an
 fiteatro da Tapada pela mão de falcoeiros do século XXI.\nA atividade se
 rá dinamizada por historiadores\, veterinários e biólogos – Tiago Vi
 úla de Faria\, Sónia Pires\, Maria Ribeiro e Afonso Soares de Sousa.\nCo
 nheça outras atividades no âmbito das jornadas\nhttps://w3.patrimoniocul
 tural.pt/jep2023/digital/\n14 de Setembro de 2023		\n			/*! elementor - v3
 .16.0 - 09-10-2023 */\n.elementor-widget-image{text-align:center}.elemento
 r-widget-image a{display:inline-block}.elementor-widget-image a img[src$="
 .svg"]{width:48px}.elementor-widget-image img{vertical-align:middle\;displ
 ay:inline-block}												
ATTACH;FMTTYPE=image/jpeg:https://tapadademafra.pt/wp-content/uploads/2023
 /09/imagem_noticia_HP_JEF.jpg
CATEGORIES:Conhecer a Tapada
LOCATION:Tapada de Mafra\, salão Dom Carlos\, Mafra\, Tapada de Mafra\, sa
 lão Dom Carlos\, Mafra\, Portugal\, 2640-602\, Portugal
X-APPLE-STRUCTURED-LOCATION;VALUE=URI;X-ADDRESS=Tapada de Mafra\, salão Do
 m Carlos\, Mafra\, Portugal\, 2640-602\, Portugal;X-APPLE-RADIUS=100;X-TIT
 LE=Tapada de Mafra\, salão Dom Carlos\, Mafra:geo:0,0
END:VEVENT
BEGIN:VTIMEZONE
TZID:Europe/Lisbon
X-LIC-LOCATION:Europe/Lisbon
BEGIN:DAYLIGHT
DTSTART:20230326T020000
TZOFFSETFROM:+0000
TZOFFSETTO:+0100
TZNAME:WEST
END:DAYLIGHT
END:VTIMEZONE
END:VCALENDAR