BEGIN:VCALENDAR
VERSION:2.0
PRODID:-//wp-events-plugin.com//7.2.3.1//EN
TZID:Europe/Lisbon
X-WR-TIMEZONE:Europe/Lisbon
BEGIN:VEVENT
UID:30@tapadademafra.pt
DTSTART;TZID=Europe/Lisbon:20241116T100000
DTEND;TZID=Europe/Lisbon:20241116T123000
DTSTAMP:20241030T163825Z
URL:https://tapadademafra.pt/experiencias/aulas-de-yoga-na-floresta/
SUMMARY:Aulas de Yoga na floresta
DESCRIPTION:Outono e Yoga na Floresta: A combinação perfeita para relaxar
 ! 
ATTACH;FMTTYPE=image/jpeg:https://tapadademafra.pt/wp-content/uploads/2024
 /10/site-topo-pag-1101-×-400-px.png
CATEGORIES:Comemoração 280 anos,Eventos Especiais
LOCATION:Tapada Nacional de Mafra\, Portão do Codeçal\, Mafra\, Portugal
X-APPLE-STRUCTURED-LOCATION;VALUE=URI;X-ADDRESS=Portão do Codeçal\, Mafra
 \, Portugal;X-APPLE-RADIUS=100;X-TITLE=Tapada Nacional de Mafra:geo:0,0
END:VEVENT
BEGIN:VTIMEZONE
TZID:Europe/Lisbon
X-LIC-LOCATION:Europe/Lisbon
BEGIN:STANDARD
DTSTART:20241027T010000
TZOFFSETFROM:+0100
TZOFFSETTO:+0000
TZNAME:WET
END:STANDARD
END:VTIMEZONE
END:VCALENDAR