BEGIN:VCALENDAR
VERSION:2.0
PRODID:-//wp-events-plugin.com//7.2.3.1//EN
TZID:Europe/Lisbon
X-WR-TIMEZONE:Europe/Lisbon
BEGIN:VEVENT
UID:34@tapadademafra.pt
DTSTART;TZID=Europe/Lisbon:20250301T100000
DTEND;TZID=Europe/Lisbon:20250301T123000
DTSTAMP:20250226T162208Z
URL:https://tapadademafra.pt/experiencias/aula-de-yoga/
SUMMARY:Aula de Yoga
DESCRIPTION:O desafio lançado no outono de 2024 foi realizarmos uma aula d
 e Yoga na nossa floresta\, por estação do ano! No ambiente tranquilo da
  Tapada\, poderá relaxar\, renovar energias e conectar-se com a nature
 za.Esta experiência é para todas as idades a partir dos 12 anos e aberta
  a praticantes de todos os níveis.Venha descobrir a tranquilidade da flo
 resta\, numa aula pensada para aliviar o stress da rotina.		\n												
 														\n																										\n		Bilhete – 20€Oferta de u
 m voucher para“Um bilhete gratuito para um percurso pedestre na Tapada n
 a compra de outro”\, com validade até 6 meses.		\n																	\n		
 			                    											Dias									    \n									\n										
 							\n										01 de Março\n									\n																	\n					      
               											Hora									    \n									\n																	\n
 										10h às 11h30									\n																	\n					                
     											Duração									    \n									\n																	\n					
 					150 min									\n																	\n					                    							
 				\n												bilhetes											\n									\n																	\n					
 					Comprar aqui									\n		Nota: Caso as condições meteorológicas n
 ão sejam favoráveis\, temos espaços interiores prontos para acolhê-lo(
 a) com conforto e beleza.Idade mínima-12 anosAula adequada a praticantes 
 de todos os níveis.Deve trazer roupa confortável e quente\, bem como o s
 eu tapete.		\n		\n			#gallery-1 {\n				margin: auto\;\n			}\n			#gallery-1
  .gallery-item {\n				float: left\;\n				margin-top: 10px\;\n				text-alig
 n: center\;\n				width: 33%\;\n			}\n			#gallery-1 img {\n				border: 2px 
 solid #cfcfcf\;\n			}\n			#gallery-1 .gallery-caption {\n				margin-left: 
 0\;\n			}\n			/* see gallery_shortcode() in wp-includes/media.php */\n		\n
 		\n			\n				\n			\n			\n				\n			\n			\n				\n			
ATTACH;FMTTYPE=image/jpeg:https://tapadademafra.pt/wp-content/uploads/2024
 /10/site-topo-pag-1101-×-400-px.png
CATEGORIES:Eventos Especiais
LOCATION:Tapada Nacional de Mafra\, Portão do Codeçal\, Mafra\, Portugal
X-APPLE-STRUCTURED-LOCATION;VALUE=URI;X-ADDRESS=Portão do Codeçal\, Mafra
 \, Portugal;X-APPLE-RADIUS=100;X-TITLE=Tapada Nacional de Mafra:geo:0,0
END:VEVENT
BEGIN:VTIMEZONE
TZID:Europe/Lisbon
X-LIC-LOCATION:Europe/Lisbon
BEGIN:STANDARD
DTSTART:20241027T010000
TZOFFSETFROM:+0100
TZOFFSETTO:+0000
TZNAME:WET
END:STANDARD
END:VTIMEZONE
END:VCALENDAR