BEGIN:VCALENDAR
VERSION:2.0
PRODID:-//wp-events-plugin.com//7.2.3.1//EN
TZID:Europe/Lisbon
X-WR-TIMEZONE:Europe/Lisbon
BEGIN:VEVENT
UID:44@tapadademafra.pt
DTSTART;TZID=Europe/Lisbon:20250510T100000
DTEND;TZID=Europe/Lisbon:20250510T113000
DTSTAMP:20250507T160042Z
URL:https://tapadademafra.pt/experiencias/aula-de-yoga-na-primavera/
SUMMARY:Aula de Yoga na Primavera
DESCRIPTION:															\n																														\n		EVENTO CANCE
 LADOBilhete único( a partir dos 12 anos)- 20€Oferta de um voucher para 
 um percurso pedestre (na compra de outro\, válido por 6 meses) 		\n					
 												\n					                    											Dias									    \n					
 				\n																	\n										10 de Maio\n									\n																
 	\n					                    											Hora									    \n									\n					
 												\n										10h-11h30									\n																	\n					      
               											Duração									    \n									\n														
 			\n										150 min									\n																	\n					                 
    											\n												Bilhetes AQUI											\n									\n		Nota: 
 No ambiente sereno da Tapada\, poderá relaxar\, renovar energias e recone
 ctar-se com a natureza\, sentindo o solo sob os pés\, os aromas da flores
 ta e o sol na pele — finalmente de manga curta!Venha descobrir a tranqui
 lidade da floresta\, numa aula pensada para aliviar o stress do quotidiano
  e revitalizar corpo e mente.Esta é uma experiência aberta a todas as id
 ades a partir dos 12 anos e acessível a praticantes de todos os níveis.
ATTACH;FMTTYPE=image/jpeg:https://tapadademafra.pt/wp-content/uploads/2025
 /04/3-1.png
CATEGORIES:Eventos Especiais
LOCATION:Tapada Nacional de Mafra\, Portão do Codeçal\, Mafra\, Portugal
X-APPLE-STRUCTURED-LOCATION;VALUE=URI;X-ADDRESS=Portão do Codeçal\, Mafra
 \, Portugal;X-APPLE-RADIUS=100;X-TITLE=Tapada Nacional de Mafra:geo:0,0
END:VEVENT
BEGIN:VTIMEZONE
TZID:Europe/Lisbon
X-LIC-LOCATION:Europe/Lisbon
BEGIN:DAYLIGHT
DTSTART:20250330T020000
TZOFFSETFROM:+0000
TZOFFSETTO:+0100
TZNAME:WEST
END:DAYLIGHT
END:VTIMEZONE
END:VCALENDAR