BEGIN:VCALENDAR
VERSION:2.0
PRODID:-//wp-events-plugin.com//7.2.3.1//EN
TZID:Europe/Lisbon
X-WR-TIMEZONE:Europe/Lisbon
BEGIN:VEVENT
UID:11@tapadademafra.pt
DTSTART;TZID=Europe/Lisbon:20240303T100000
DTEND;TZID=Europe/Lisbon:20240303T123000
DTSTAMP:20240207T180133Z
URL:https://tapadademafra.pt/experiencias/as-aguias-e-nos/
SUMMARY:As águias e nós
DESCRIPTION:No âmbito do Projeto Lx Aquila e das comemorações dos 280 an
 os da Tapada Nacional de Mafra convidamos as famílias a participarem num 
 percurso pedestre guiado.Um percurso pedestre guiado pela Tapada para dar 
 a conhecer e promover a sensibilização sobre a importância das aves de 
 rapina.Desde o ano de 2020 e no âmbito do Projeto Lx Aquila a Tapada Naci
 onal de Mafra promove\, visitas gratuitas para escolas do concelho e para 
 público em geral.Pretendemos relacionar a importância da preservação d
 as espécies de aves de rapina focando o caso concreto da Águia de Bonell
 i\, a ciência que ajuda a estudar e a preservar esta espécie autóctone.
 Nos dias 03 /23 e 24 de Março focamos a nossa ação para o público em g
 eral.Nestes dias a Tapada Nacional de Mafra convida as famílias a partici
 parem num percurso pedestre guiado.Ao longo de 4 km vamos dar a conhecer a
 s espécies de aves de rapina que habitam esta floresta única\, sobretudo
  a espécie alvo deste projeto: Águia-de-bonelli- Aquila fasciatus.Qual a
  importância deste predador nos ecossistemas? será que a sociedade tamb
 ém beneficia com a sua presença? Será possível as pessoas partilharem 
 o mesmo espaço com esta e outras espécies?Conhecendo a nossa riqueza nat
 ural\, vamos nos tornar os seus guardiões!		\n			/*! elementor - v3.16.0 
 - 09-10-2023 */\n.elementor-widget-image{text-align:center}.elementor-widg
 et-image a{display:inline-block}.elementor-widget-image a img[src$=".svg"]
 {width:48px}.elementor-widget-image img{vertical-align:middle\;display:inl
 ine-block}																											\n																														\n		G
 ratuito mediante inscrição obrigatória para visitas@tapadademafra.pt 
  Inscrição sujeita ao número limite de vagas.		\n																	\n		
 			                    											Dias									    \n									\n										
 							\n										3 de Março\n									\n																	\n					       
              											Hora									    \n									\n																	\n	
 									10h									\n																	\n					                    							
 				Duração									    \n									\n																	\n										150 mi
 n									\n																	\n					                    											Lotaç
 ão									    \n									\n																	\n										25 pessoas						
 			\n		Nota: Sugerimos que traga calçado confortável.Esta modalidade de
  visita é adequada a maiores de 6 anos.Ajude a preservar\, seja um embai
 xador clique aqui 
ATTACH;FMTTYPE=image/jpeg:https://tapadademafra.pt/wp-content/uploads/2024
 /02/1.png
CATEGORIES:Comemoração 280 anos
LOCATION:Tapada Nacional de Mafra\, Portão do Codeçal\, Mafra\, Portugal
X-APPLE-STRUCTURED-LOCATION;VALUE=URI;X-ADDRESS=Portão do Codeçal\, Mafra
 \, Portugal;X-APPLE-RADIUS=100;X-TITLE=Tapada Nacional de Mafra:geo:0,0
END:VEVENT
BEGIN:VTIMEZONE
TZID:Europe/Lisbon
X-LIC-LOCATION:Europe/Lisbon
BEGIN:STANDARD
DTSTART:20231029T010000
TZOFFSETFROM:+0100
TZOFFSETTO:+0000
TZNAME:WET
END:STANDARD
END:VTIMEZONE
END:VCALENDAR