BEGIN:VCALENDAR
VERSION:2.0
PRODID:-//wp-events-plugin.com//7.2.3.1//EN
TZID:Europe/Lisbon
X-WR-TIMEZONE:Europe/Lisbon
BEGIN:VEVENT
UID:26@tapadademafra.pt
DTSTART;TZID=Europe/Lisbon:20241101T100000
DTEND;TZID=Europe/Lisbon:20241101T123000
DTSTAMP:20241011T103924Z
URL:https://tapadademafra.pt/experiencias/as-aguias-e-nos-novembro/
SUMMARY:As águias e nós - Novembro
DESCRIPTION:/*! elementor - v3.16.0 - 09-10-2023 */.elementor-widget-image{
 text-align:center}.elementor-widget-image a{display:inline-block}.elemento
 r-widget-image a img[src$=".svg"]{width:48px}.elementor-widget-image img{v
 ertical-align:middle\;display:inline-block}\n\n\n\n\nEntradas gratuitas\, 
 mediante inscrição obrigatória para visitas@tapadademafra.pt.\n\nSujeit
 o ao número máximo de 25 pessoas.\nDias\n01 de Novembro\nHora\n10h\nDura
 ção\n150 min\nLotação\n25 pessoas\n\nNota:\n\nUm percurso pedestre gui
 ado pela Tapada para dar a conhecer e promover a sensibilização sobre a 
 importância das aves de rapina.\n\nNo âmbito do Projeto Lx Aquila a Tapa
 da Nacional de Mafra promove desde o ano de 2020\, visitas gratuitas para 
 escolas do concelho e para público em geral.\n\nPretendemos relacionar a 
 importância da preservação das espécies de aves de rapina focando o ca
 so concreto da Águia de Bonelli\, a ciência que ajuda a estudar e a pres
 ervar esta espécie autóctone.\n\nNos dias 26 /27 de Outubro e 01 de Nove
 mbro focamos a nossa ação para o público em geral.\n\nNestes dias a Tap
 ada Nacional de Mafra convida as famílias a participarem num percurso ped
 estre guiado.\n\nAo longo de 4 km vamos dar a conhecer as espécies de ave
 s de rapina que habitam esta floresta única\, sobretudo a espécie alvo d
 este projeto: Águia-de-bonelli- Aquila fasciatus.\n\nQual a importância 
 deste predador nos ecossistemas? será que a sociedade também beneficia c
 om a sua presença? Será possível as pessoas partilharem o mesmo espaço
  com esta e outras espécies?\n\nConhecendo a nossa riqueza natural\, vamo
 s nos tornar os seus guardiões!\n\nAjude a preservar\, seja um embaixador
  AQUI \n\n\nConheça a Biodiversidade da Tapada\n
ATTACH;FMTTYPE=image/jpeg:https://tapadademafra.pt/wp-content/uploads/2024
 /10/As-aguias-e-nos.png
CATEGORIES:Comemoração 280 anos,Eventos Especiais
LOCATION:Tapada Nacional de Mafra\, Portão do Codeçal\, Mafra\, Portugal
X-APPLE-STRUCTURED-LOCATION;VALUE=URI;X-ADDRESS=Portão do Codeçal\, Mafra
 \, Portugal;X-APPLE-RADIUS=100;X-TITLE=Tapada Nacional de Mafra:geo:0,0
END:VEVENT
BEGIN:VTIMEZONE
TZID:Europe/Lisbon
X-LIC-LOCATION:Europe/Lisbon
BEGIN:STANDARD
DTSTART:20241027T010000
TZOFFSETFROM:+0100
TZOFFSETTO:+0000
TZNAME:WET
END:STANDARD
END:VTIMEZONE
END:VCALENDAR