BEGIN:VCALENDAR
VERSION:2.0
PRODID:-//wp-events-plugin.com//7.2.3.1//EN
TZID:Europe/Lisbon
X-WR-TIMEZONE:Europe/Lisbon
BEGIN:VEVENT
UID:13@tapadademafra.pt
DTSTART;TZID=Europe/Lisbon:20240323T100000
DTEND;TZID=Europe/Lisbon:20240324T123000
DTSTAMP:20240227T123153Z
URL:https://tapadademafra.pt/experiencias/as-aguias-e-nos-novas-datas/
SUMMARY:As águias e nós - Novas datas
DESCRIPTION:Convidamos as famílias a participarem num percurso pedestre gu
 iado. Espera-se sensibilizar para a importância da preservação das dife
 rentes espécies de aves de rapina\, sobretudo da Águia-de-bonelli.
ATTACH;FMTTYPE=image/jpeg:https://tapadademafra.pt/wp-content/uploads/2024
 /02/2-1.png
CATEGORIES:Comemoração 280 anos
LOCATION:Tapada Nacional de Mafra\, Portão do Codeçal\, Mafra\, Portugal
X-APPLE-STRUCTURED-LOCATION;VALUE=URI;X-ADDRESS=Portão do Codeçal\, Mafra
 \, Portugal;X-APPLE-RADIUS=100;X-TITLE=Tapada Nacional de Mafra:geo:0,0
END:VEVENT
BEGIN:VTIMEZONE
TZID:Europe/Lisbon
X-LIC-LOCATION:Europe/Lisbon
BEGIN:STANDARD
DTSTART:20231029T010000
TZOFFSETFROM:+0100
TZOFFSETTO:+0000
TZNAME:WET
END:STANDARD
END:VTIMEZONE
END:VCALENDAR