BEGIN:VCALENDAR
VERSION:2.0
PRODID:-//wp-events-plugin.com//7.2.3.1//EN
TZID:Europe/Lisbon
X-WR-TIMEZONE:Europe/Lisbon
BEGIN:VEVENT
UID:38@tapadademafra.pt
DTSTART;TZID=Europe/Lisbon:20250322T100000
DTEND;TZID=Europe/Lisbon:20250323T123000
DTSTAMP:20250305T172749Z
URL:https://tapadademafra.pt/experiencias/as-aguias-e-nos-marco2025/
SUMMARY:As águias e nós - Março 2025
DESCRIPTION:													\n																										\n		Gratuito mediante 
 inscrição para visitas@tapadademafra.pt		\n																	\n					     
                											Dias									    \n									\n																	\
 n										22 e 23 de Março\n									\n																	\n					         
            											Hora									    \n									\n																	\n			
 							10h- 12h30									\n																	\n					                    		
 									Duração									    \n									\n																	\n										1
 50 min									\n																	\n					                    											Lo
 tação									    \n									\n																	\n										25 pessoas		
 							\n		Um percurso pedestre guiado pela Tapada para dar a conhecer e p
 romover a sensibilização sobre a importância das aves de rapina.No âmb
 ito do Projeto Lx Aquila a Tapada Nacional de Mafra promove desde o ano de
  2020\, visitas gratuitas para escolas do concelho e para público em gera
 l.Pretendemos relacionar a importância da preservação das espécies de 
 aves de rapina focando o caso concreto da Águia de Bonelli\, a ciência q
 ue ajuda a estudar e a preservar esta espécie autóctone.Nos dias 22 e 23
  de Março focamos a nossa ação para o público em geral.Nestes dias a T
 apada Nacional de Mafra convida as famílias a participarem num percurso p
 edestre guiado.Ao longo de 4 km vamos dar a conhecer as espécies de aves
  de rapina que habitam esta floresta única\, sobretudo a espécie alvo d
 este projeto: Águia-de-bonelli– Aquila fasciatus.Qual a importância de
 ste predador nos ecossistemas? será que a sociedade também beneficia com
  a sua presença? Será possível as pessoas partilharem o mesmo espaço c
 om esta e outras espécies?Conhecendo a nossa riqueza natural\, vamos nos 
 tornar os seus guardiões!Seja um embaixador das águias\, faça o seu jur
 amento AQUI
ATTACH;FMTTYPE=image/jpeg:https://tapadademafra.pt/wp-content/uploads/2025
 /03/site-topo-pag-1101-×-400-px-3.png
CATEGORIES:Eventos Especiais
LOCATION:Tapada Nacional de Mafra\, Portão do Codeçal\, Mafra\, Portugal
X-APPLE-STRUCTURED-LOCATION;VALUE=URI;X-ADDRESS=Portão do Codeçal\, Mafra
 \, Portugal;X-APPLE-RADIUS=100;X-TITLE=Tapada Nacional de Mafra:geo:0,0
END:VEVENT
BEGIN:VTIMEZONE
TZID:Europe/Lisbon
X-LIC-LOCATION:Europe/Lisbon
BEGIN:STANDARD
DTSTART:20241027T010000
TZOFFSETFROM:+0100
TZOFFSETTO:+0000
TZNAME:WET
END:STANDARD
END:VTIMEZONE
END:VCALENDAR