BEGIN:VCALENDAR
VERSION:2.0
PRODID:-//wp-events-plugin.com//7.2.3.1//EN
TZID:Europe/Lisbon
X-WR-TIMEZONE:Europe/Lisbon
BEGIN:VEVENT
UID:22@tapadademafra.pt
DTSTART;TZID=Europe/Lisbon:20240920T200000
DTEND;TZID=Europe/Lisbon:20240921T220000
DTSTAMP:20240911T121703Z
URL:https://tapadademafra.pt/experiencias/a-noite-na-tapada-a-brama-24-2/
SUMMARY:À noite na tapada – A Brama
DESCRIPTION:Sob a capa das estrelas descobriremos as sensações\; os cheir
 os e os sons da noite\, os animais noturnos da Tapada\, a brama\, a ronca 
 e os rituais de acasalamento.\n\nIniciamos a aventura de carro elétrico a
 té um dos pontos mais altos e um dos territórios de acasalamento dos cer
 vídeos mais importantes na Tapada.\n\nÉ a partir desse ponto que Iniciam
 os a nossa caminhada\, atravessando vários territórios. Com o sentido da
  visão reduzido\, a audição e olfato ficam mais sensíveis aos estímul
 os.\n\n/*! elementor - v3.16.0 - 09-10-2023 */\n.elementor-widget-image{te
 xt-align:center}.elementor-widget-image a{display:inline-block}.elementor-
 widget-image a img[src$=".svg"]{width:48px}.elementor-widget-image img{ver
 tical-align:middle\;display:inline-block}\n\n\n\n\nBilhete Adultos (&gt\;1
 2 anos) – 12\,5€\nBilhete criança dos 10 - 12 anos – 10€\nDias\n1
 3/14\n20/21\n27/28 de setembro\nHora\n20h\nDuração\n150 min\nLotação\n
 24 pessoas\n\nNota:\n\nSugerimos que traga lanterna\, calçado confortáve
 l e um agasalho.\n\nEsta modalidade de visita não é permitida a criança
 s com menos de 10 anos.\n\n/*! elementor - v3.16.0 - 09-10-2023 */\n.eleme
 ntor-image-gallery .gallery-item{display:inline-block\;text-align:center\;
 vertical-align:top\;width:100%\;max-width:100%\;margin:0 auto}.elementor-i
 mage-gallery .gallery-item img{margin:0 auto}.elementor-image-gallery .gal
 lery-item .gallery-caption{margin:0}.elementor-image-gallery figure img{di
 splay:block}.elementor-image-gallery figure figcaption{width:100%}.gallery
 -spacing-custom .elementor-image-gallery .gallery-icon{padding:0}@media (m
 in-width:768px){.elementor-image-gallery .gallery-columns-2 .gallery-item{
 max-width:50%}.elementor-image-gallery .gallery-columns-3 .gallery-item{ma
 x-width:33.33%}.elementor-image-gallery .gallery-columns-4 .gallery-item{m
 ax-width:25%}.elementor-image-gallery .gallery-columns-5 .gallery-item{max
 -width:20%}.elementor-image-gallery .gallery-columns-6 .gallery-item{max-w
 idth:16.666%}.elementor-image-gallery .gallery-columns-7 .gallery-item{max
 -width:14.28%}.elementor-image-gallery .gallery-columns-8 .gallery-item{ma
 x-width:12.5%}.elementor-image-gallery .gallery-columns-9 .gallery-item{ma
 x-width:11.11%}.elementor-image-gallery .gallery-columns-10 .gallery-item{
 max-width:10%}}@media (min-width:480px) and (max-width:767px){.elementor-i
 mage-gallery .gallery.gallery-columns-2 .gallery-item\,.elementor-image-ga
 llery .gallery.gallery-columns-3 .gallery-item\,.elementor-image-gallery .
 gallery.gallery-columns-4 .gallery-item\,.elementor-image-gallery .gallery
 .gallery-columns-5 .gallery-item\,.elementor-image-gallery .gallery.galler
 y-columns-6 .gallery-item\,.elementor-image-gallery .gallery.gallery-colum
 ns-7 .gallery-item\,.elementor-image-gallery .gallery.gallery-columns-8 .g
 allery-item\,.elementor-image-gallery .gallery.gallery-columns-9 .gallery-
 item\,.elementor-image-gallery .gallery.gallery-columns-10 .gallery-item{m
 ax-width:50%}}@media (max-width:479px){.elementor-image-gallery .gallery.g
 allery-columns-2 .gallery-item\,.elementor-image-gallery .gallery.gallery-
 columns-3 .gallery-item\,.elementor-image-gallery .gallery.gallery-columns
 -4 .gallery-item\,.elementor-image-gallery .gallery.gallery-columns-5 .gal
 lery-item\,.elementor-image-gallery .gallery.gallery-columns-6 .gallery-it
 em\,.elementor-image-gallery .gallery.gallery-columns-7 .gallery-item\,.el
 ementor-image-gallery .gallery.gallery-columns-8 .gallery-item\,.elementor
 -image-gallery .gallery.gallery-columns-9 .gallery-item\,.elementor-image-
 gallery .gallery.gallery-columns-10 .gallery-item{max-width:100%}}\n#galle
 ry-1 {\nmargin: auto\;\n}\n#gallery-1 .gallery-item {\nfloat: left\;\nmarg
 in-top: 10px\;\ntext-align: center\;\nwidth: 33%\;\n}\n#gallery-1 img {\nb
 order: 2px solid #cfcfcf\;\n}\n#gallery-1 .gallery-caption {\nmargin-left:
  0\;\n}\n/* see gallery_shortcode() in wp-includes/media.php */\n\n 	\n\n\
 n 	\n\n\n 	\n\n&nbsp\;\n\n 	\n 	Cervídeo ao crepúsculo\n\n&nbsp\;
ATTACH;FMTTYPE=image/jpeg:https://tapadademafra.pt/wp-content/uploads/2024
 /09/site-topo-pag-1101-×-400-px-22.png
CATEGORIES:Eventos Especiais
LOCATION:Tapada Nacional de Mafra\, Portão do Codeçal\, Mafra\, Portugal
X-APPLE-STRUCTURED-LOCATION;VALUE=URI;X-ADDRESS=Portão do Codeçal\, Mafra
 \, Portugal;X-APPLE-RADIUS=100;X-TITLE=Tapada Nacional de Mafra:geo:0,0
END:VEVENT
BEGIN:VTIMEZONE
TZID:Europe/Lisbon
X-LIC-LOCATION:Europe/Lisbon
BEGIN:DAYLIGHT
DTSTART:20240331T020000
TZOFFSETFROM:+0000
TZOFFSETTO:+0100
TZNAME:WEST
END:DAYLIGHT
END:VTIMEZONE
END:VCALENDAR