BEGIN:VCALENDAR
VERSION:2.0
PRODID:-//wp-events-plugin.com//7.2.3.1//EN
TZID:Europe/Lisbon
X-WR-TIMEZONE:Europe/Lisbon
BEGIN:VEVENT
UID:20@tapadademafra.pt
DTSTART;TZID=Europe/Lisbon;VALUE=DATE:20240720
DTEND;TZID=Europe/Lisbon;VALUE=DATE:20240721
DTSTAMP:20240713T152351Z
URL:https://tapadademafra.pt/experiencias/280o-aniversario-da-tapada-nacio
 nal-de-mafra/
SUMMARY:280º Aniversário da Tapada Nacional de Mafra
DESCRIPTION:Neste dia comemorativo\, oferecemos várias experiências únic
 as\, exposições e visitas a espaços museológicos\, proporcionando uma 
 oportunidade ímpar de explorar esta floresta extraordinária.Junte-se a n
 ós para celebrar os 280 anos da Tapada Nacional de Mafra.		\n			/*! eleme
 ntor - v3.16.0 - 09-10-2023 */\n.elementor-widget-image{text-align:center}
 .elementor-widget-image a{display:inline-block}.elementor-widget-image a i
 mg[src$=".svg"]{width:48px}.elementor-widget-image img{vertical-align:midd
 le\;display:inline-block}																											\n		O evento tem entra
 da gratuita\, mas está sujeito a um limite máximo de participantes.Deve 
 ser emitido um bilhete por pessoa\, desde que tenha idade superior a 1 ano
 .Para obter a sua entrada\, pode aceder pelo nosso site (compra on-line) o
 u em qualquer bilheteira da rede blueticket (worten\, FNAC\, El Corte ingl
 ês).Ao entrar no “Evento comemorativo dos 280 anos”\, deve selecionar
  a horas que pretende entrar. (9h / 10h30 / 12h / 13h30/ 14h30)Pode emitir
  no máximo de 5 bilhetes por sessão. Se a família for composta por um n
 úmero superior deve efetuar duas sessões.À entrada da Tapada\, cada vis
 itante receberá uma pulseira correspondente à hora de entrada (Sessão q
 ue selecionou). Pedimos a todos que usem o bom senso e limitem a sua visit
 a a um máximo de 4 horas\, permitindo que outros visitantes também possa
 m desfrutar deste evento comemorativo.Terá ainda acesso a um mapa para id
 entificar os locais onde decorrem todas as experiências.Que experiências
  vai encontrar:Exposições: Exposição Fotográfica “Conservação\, B
 iodiversidade e História”Exposição de escultura “A arte e o Metal
 ”Exposição “Um Património Natural com História – A atrelagem”P
 ercursos pedestresCarro elétrico (em circuito- hop-on hop-off)Visita Muse
 u da história da TapadaVisita ao Chalé do Rei D. CarlosVisita ao salão 
 NobreCircuito de arborismoInsufláveisMúsicaAnimação de TeatroBatismo e
 questrePasseio de charrete (entradas em dois locais\; Celebredo e Forno da
  cal)Encontro com as aves de Rapina (9h30 / 10h30 / 11h30/ 14h30/ 15h30/ 1
 6h30)O Mundo das Abelhas (10h/ 11h/12h / 14h/ 15h/ 16h).Os Batismos equest
 res\, Passeio de charrete e o Circuito de arborismo requerem pré-inscriç
 ão.Abra o Qr-code das experiências que pretende se inscrever (acesso dis
 ponível até 19/7 às 23h30).ATENÇÃO deve fazer uma inscrição por pes
 soa.Neste dia\, temos mais experiências disponíveis\, mas de forma a per
 mitir que mais pessoas possam desfrutar têm duração mais curta do que o
  habitual. Encontrará os nossos guias em locais chave para que lhe possa 
 esclarecer sobre o que está a observar.Os portões encerram às 19h.Todas
  as experiências ocorrem em horários uniformizados\, permitindo que\, ao
  permanecer algumas horas\, possa desfrutar de tudo\, evitando assim sobre
 carregar o espaço.		\n																	\n					                    							
 				Dias									    \n									\n																	\n										20 de Julho
 \n									\n																	\n					                    											Hora		
 							    \n									\n																	\n										Das 9h às 19h							
 		\n																	\n					                    											Duração						
 			    \n									\n																	\n					                    										
 	Lotação									    \n									\n																	\n										O evento 
 tem entrada gratuita\, mas está sujeito a um limite máximo 1250 particip
 antes.									
ATTACH;FMTTYPE=image/jpeg:https://tapadademafra.pt/wp-content/uploads/2024
 /07/2.png
CATEGORIES:Comemoração 280 anos
LOCATION:Tapada Nacional de Mafra\, Portão do Codeçal\, Mafra\, Portugal
X-APPLE-STRUCTURED-LOCATION;VALUE=URI;X-ADDRESS=Portão do Codeçal\, Mafra
 \, Portugal;X-APPLE-RADIUS=100;X-TITLE=Tapada Nacional de Mafra:geo:0,0
END:VEVENT
BEGIN:VTIMEZONE
TZID:Europe/Lisbon
X-LIC-LOCATION:Europe/Lisbon
BEGIN:DAYLIGHT
DTSTART:20240331T020000
TZOFFSETFROM:+0000
TZOFFSETTO:+0100
TZNAME:WEST
END:DAYLIGHT
END:VTIMEZONE
END:VCALENDAR